BEGIN:VCALENDAR
PRODID:-//Microsoft Corporation//Outlook 12.0 MIMEDIR//EN
VERSION:2.0
CALSCALE:GREGORIAN
BEGIN:VEVENT
UID: c0ce77f9-b101-42bf-8552-92f2be02aa8e
SUMMARY:"Tagasi Kooli!" nädal
DTSTAMP:20250127
DTSTART:20250127
DTEND:20250201
DURATION:P5D
LOCATION:
DESCRIPTION: <p>Ootame lapsevanemaid külalistunde andma!</p><p><strong>Link: </strong>https://aasmaekool.ee/et/sundmuste-kalender/tagasi-kooli-nadal</p><p><strong>Hind: </strong></p>
STATUS:CONFIRMED
SEQUENCE:3
X-ALT-DESC;FMTTYPE=text/html:<p>Ootame lapsevanemaid külalistunde andma!</p><p><strong>Link: </strong>https://aasmaekool.ee/et/sundmuste-kalender/tagasi-kooli-nadal</p><p><strong>Hind: </strong></p>
X-MICROSOFT-CDO-BUSYSTATUS:OOF
X-MICROSOFT-CDO-IMPORTANCE:1
X-MICROSOFT-DISALLOW-COUNTER:FALSE
X-MS-OLK-ALLOWEXTERNCHECK:TRUE
X-MS-OLK-CONFTYPE:0
X-MICROSOFT-CDO-ALLDAYEVENT:1
X-MICROSOFT-MSNCALENDAR-ALLDAYEVENT:1
END:VEVENT
END:VCALENDAR