BEGIN:VCALENDAR
PRODID:-//Microsoft Corporation//Outlook 12.0 MIMEDIR//EN
VERSION:2.0
CALSCALE:GREGORIAN
BEGIN:VEVENT
UID: 6af26d90-e5f7-4dd6-a3f1-82779f2dcce2
SUMMARY:Sõbrapäev
DTSTAMP:20260213
DTSTART:20260213
DTEND:20260214
DURATION:P1D
LOCATION:
DESCRIPTION: <h3>Sõbrakaartide postkast on avatud 10.-13. veebruaril!</h3><p><strong>Link: </strong>https://aasmaekool.ee/et/sundmuste-kalender/sobrapaev-0</p><p><strong>Hind: </strong></p>
STATUS:CONFIRMED
SEQUENCE:3
X-ALT-DESC;FMTTYPE=text/html:<h3>Sõbrakaartide postkast on avatud 10.-13. veebruaril!</h3><p><strong>Link: </strong>https://aasmaekool.ee/et/sundmuste-kalender/sobrapaev-0</p><p><strong>Hind: </strong></p>
X-MICROSOFT-CDO-BUSYSTATUS:OOF
X-MICROSOFT-CDO-IMPORTANCE:1
X-MICROSOFT-DISALLOW-COUNTER:FALSE
X-MS-OLK-ALLOWEXTERNCHECK:TRUE
X-MS-OLK-CONFTYPE:0
X-MICROSOFT-CDO-ALLDAYEVENT:1
X-MICROSOFT-MSNCALENDAR-ALLDAYEVENT:1
END:VEVENT
END:VCALENDAR